BEGIN:VCALENDAR
VERSION:2.0
PRODID:-//Mount Vernon Baptist Church - ECPv6.15.18//NONSGML v1.0//EN
CALSCALE:GREGORIAN
METHOD:PUBLISH
X-ORIGINAL-URL:https://mvbchurch.org
X-WR-CALDESC:Events for Mount Vernon Baptist Church
REFRESH-INTERVAL;VALUE=DURATION:PT1H
X-Robots-Tag:noindex
X-PUBLISHED-TTL:PT1H
BEGIN:VTIMEZONE
TZID:America/New_York
BEGIN:DAYLIGHT
TZOFFSETFROM:-0500
TZOFFSETTO:-0400
TZNAME:EDT
DTSTART:20250309T070000
END:DAYLIGHT
BEGIN:STANDARD
TZOFFSETFROM:-0400
TZOFFSETTO:-0500
TZNAME:EST
DTSTART:20251102T060000
END:STANDARD
BEGIN:DAYLIGHT
TZOFFSETFROM:-0500
TZOFFSETTO:-0400
TZNAME:EDT
DTSTART:20260308T070000
END:DAYLIGHT
BEGIN:STANDARD
TZOFFSETFROM:-0400
TZOFFSETTO:-0500
TZNAME:EST
DTSTART:20261101T060000
END:STANDARD
BEGIN:DAYLIGHT
TZOFFSETFROM:-0500
TZOFFSETTO:-0400
TZNAME:EDT
DTSTART:20270314T070000
END:DAYLIGHT
BEGIN:STANDARD
TZOFFSETFROM:-0400
TZOFFSETTO:-0500
TZNAME:EST
DTSTART:20271107T060000
END:STANDARD
END:VTIMEZONE
BEGIN:VEVENT
DTSTART;TZID=America/New_York:20260607T090000
DTEND;TZID=America/New_York:20260607T150000
DTSTAMP:20260423T170621
CREATED:20260327T195252Z
LAST-MODIFIED:20260330T172950Z
UID:10000093-1780822800-1780844400@mvbchurch.org
SUMMARY:Knowing MVBC
DESCRIPTION:Visitors are invited to Knowing MVBC\, Mount Vernon’s membership class\, designed for those who are considering joining the church. This class provides a clear overview of who we are\, what we believe\, and how we seek to live together as a covenant community under the authority of God’s Word. We will walk through our doctrine\, our philosophy of ministry\, our church leadership\, and the meaning and responsibilities of church membership in a way that is both informative and welcoming. \nSession 1 begins at 9 am\, with Sessions 2–4 following the morning service. Lunch is provided\, and childcare is available. Whether you are ready to pursue membership or simply want to learn more about MVBC\, we invite you to join us as we consider what it means to belong to and serve in the life of the local church. \nRSVP here.
URL:https://mvbchurch.org/event/knowing-mvbc/2026-06-07/
LOCATION:Mount Vernon Baptist Church\, Sandy Springs\, GA
CATEGORIES:Class,Visitors
ATTACH;FMTTYPE=image/jpeg:https://mvbchurch.org/wp-content/uploads/2025/11/KJ_mtvernon-1999-scaled.jpg
ORGANIZER;CN="Jena Coen":MAILTO:jcoen@mvbchurch.org
END:VEVENT
END:VCALENDAR